BEGIN:VCALENDAR
VERSION:2.0
PRODID:-//wp-events-plugin.com//6.6.5//EN
BEGIN:VEVENT
UID:1-758@navingo.prod.level-level.nl
DTSTART;TZID=Europe/Sarajevo:20140602T000000
DTEND;TZID=Europe/Sarajevo:20140602T000000
DTSTAMP:20140530T153207Z
URL:https://navingo.prod.level-level.nl/events/numerical-modeling-of-scour
 -and-backfilling-processes-around-offshore-wind-turbine-foundations-dr-cun
 eyt-baykal/
SUMMARY:Numerical Modeling of Scour and Backfilling Processes around Offsho
 re Wind Turbine Foundations – Dr. Cuneyt Baykal
DESCRIPTION:Former research assistant and graduate of Civil Engineering at 
 Middle East Technical University\, and post doctorate in Technical Univers
 ity of Denmark\, Dr. Cuneyt Baykal will give a seminar on  June 2\, 2014\
 , Monday at 13:40 in the  Conference Room at K1 Building.\nMore info: me
 tu
LOCATION:Conference Room at K1 Building\, Dept. of Civil Engineering\, K1 B
 uilding\,   Middle East Technical University  Inonu Bulvari \, Ankara \, 0
 6531   \, Turkey
GEO:41.3;-72.92000000000002
X-APPLE-STRUCTURED-LOCATION;VALUE=URI;X-ADDRESS=Dept. of Civil Engineering\
 , K1 Building\,   Middle East Technical University  Inonu Bulvari \, Ankar
 a \, 06531   \, Turkey;X-APPLE-RADIUS=100;X-TITLE=Conference Room at K1 Bu
 ilding:geo:41.3,-72.92000000000002
END:VEVENT
BEGIN:VTIMEZONE
TZID:Europe/Sarajevo
X-LIC-LOCATION:Europe/Sarajevo
BEGIN:DAYLIGHT
DTSTART:20140330T030000
TZOFFSETFROM:+0100
TZOFFSETTO:+0200
TZNAME:CEST
END:DAYLIGHT
END:VTIMEZONE
END:VCALENDAR